BEGIN:VCALENDAR
VERSION:2.0
PRODID:-//Living Waters Church - ECPv4.5.2.1//NONSGML v1.0//EN
CALSCALE:GREGORIAN
METHOD:PUBLISH
X-WR-CALNAME:Living Waters Church
X-ORIGINAL-URL:http://www.livingwaters.ie
X-WR-CALDESC:Events for Living Waters Church
BEGIN:VEVENT
DTSTART;TZID=UTC+0:20171031T100000
DTEND;TZID=UTC+0:20171031T120000
DTSTAMP:20171107T175227
CREATED:20160902T152720Z
LAST-MODIFIED:20160902T152720Z
UID:12513-1509444000-1509451200@www.livingwaters.ie
SUMMARY:Prayer & Intercession
DESCRIPTION:This is where we meet to pray into the life of the church and intercede for our city\, county\, the nation and the world.
URL:http://www.livingwaters.ie/event/prayer-intercession/2017-10-31/
LOCATION:Ballinglough Road\, Cork\, Ireland
CATEGORIES:Prayer
END:VEVENT
BEGIN:VEVENT
DTSTART;TZID=UTC+0:20171031T193000
DTEND;TZID=UTC+0:20171031T220000
DTSTAMP:20171107T175227
CREATED:20161004T171350Z
LAST-MODIFIED:20161004T171350Z
UID:12314-1509478200-1509487200@www.livingwaters.ie
SUMMARY:Prayer Service
DESCRIPTION:This is where we meet to pray into the life of the church and intercede for our city\, county\, the nation and the world.
URL:http://www.livingwaters.ie/event/prayer-service/2017-10-31/
LOCATION:Ballinlough Road\, Cork\, Ireland
CATEGORIES:Prayer
END:VEVENT
END:VCALENDAR