BEGIN:VCALENDAR
VERSION:2.0
PRODID:-//Living Waters Church - ECPv4.5.2.1//NONSGML v1.0//EN
CALSCALE:GREGORIAN
METHOD:PUBLISH
X-WR-CALNAME:Living Waters Church
X-ORIGINAL-URL:http://www.livingwaters.ie
X-WR-CALDESC:Events for Living Waters Church
BEGIN:VEVENT
DTSTART;TZID=UTC+0:20171107T100000
DTEND;TZID=UTC+0:20171107T120000
DTSTAMP:20171107T174839
CREATED:20160902T152720Z
LAST-MODIFIED:20160902T152720Z
UID:12514-1510048800-1510056000@www.livingwaters.ie
SUMMARY:Prayer & Intercession
DESCRIPTION:This is where we meet to pray into the life of the church and intercede for our city\, county\, the nation and the world.
URL:http://www.livingwaters.ie/event/prayer-intercession/2017-11-07/
LOCATION:Ballinglough Road\, Cork\, Ireland
CATEGORIES:Prayer
END:VEVENT
BEGIN:VEVENT
DTSTART;TZID=UTC+0:20171107T193000
DTEND;TZID=UTC+0:20171107T220000
DTSTAMP:20171107T174839
CREATED:20161004T171350Z
LAST-MODIFIED:20161004T171350Z
UID:12315-1510083000-1510092000@www.livingwaters.ie
SUMMARY:Prayer Service
DESCRIPTION:This is where we meet to pray into the life of the church and intercede for our city\, county\, the nation and the world.
URL:http://www.livingwaters.ie/event/prayer-service/2017-11-07/
LOCATION:Ballinlough Road\, Cork\, Ireland
CATEGORIES:Prayer
END:VEVENT
END:VCALENDAR