BEGIN:VCALENDAR
VERSION:2.0
PRODID:-//Living Waters Church - ECPv4.5.2.1//NONSGML v1.0//EN
CALSCALE:GREGORIAN
METHOD:PUBLISH
X-WR-CALNAME:Living Waters Church
X-ORIGINAL-URL:http://www.livingwaters.ie
X-WR-CALDESC:Events for Living Waters Church
BEGIN:VEVENT
DTSTART;TZID=UTC+0:20171109T100000
DTEND;TZID=UTC+0:20171109T120000
DTSTAMP:20171107T175300
CREATED:20161010T162418Z
LAST-MODIFIED:20161010T162418Z
UID:12476-1510221600-1510228800@www.livingwaters.ie
SUMMARY:Prayer & Intercession
DESCRIPTION:Agreeing with what God promised to do.\n\nAnd since we know He hears us when we make our requests\, we also know that He will give us what we ask for. 1 John 5:15
URL:http://www.livingwaters.ie/event/prayer-intercession-4/2017-11-09/
LOCATION:Ballinglough Road\, Cork\, Ireland
END:VEVENT
BEGIN:VEVENT
DTSTART;TZID=UTC+0:20171109T193000
DTEND;TZID=UTC+0:20171109T210000
DTSTAMP:20171107T175300
CREATED:20161011T125720Z
LAST-MODIFIED:20161011T125720Z
UID:12441-1510255800-1510261200@www.livingwaters.ie
SUMMARY:Life Group
DESCRIPTION:Joining together in community to share life and experience God's work as a group.
URL:http://www.livingwaters.ie/event/life-group/2017-11-09/
LOCATION:Ballinglough Road\, Cork\, Ireland
END:VEVENT
END:VCALENDAR